BEGIN:VCALENDAR
VERSION:2.0
PRODID:-//The Hyde Park Creative Connector - ECPv6.15.20//NONSGML v1.0//EN
CALSCALE:GREGORIAN
METHOD:PUBLISH
X-ORIGINAL-URL:https://thehydeparkcreativeconnector.org
X-WR-CALDESC:Events for The Hyde Park Creative Connector
REFRESH-INTERVAL;VALUE=DURATION:PT1H
X-Robots-Tag:noindex
X-PUBLISHED-TTL:PT1H
BEGIN:VTIMEZONE
TZID:America/New_York
BEGIN:DAYLIGHT
TZOFFSETFROM:-0500
TZOFFSETTO:-0400
TZNAME:EDT
DTSTART:20250309T070000
END:DAYLIGHT
BEGIN:STANDARD
TZOFFSETFROM:-0400
TZOFFSETTO:-0500
TZNAME:EST
DTSTART:20251102T060000
END:STANDARD
BEGIN:DAYLIGHT
TZOFFSETFROM:-0500
TZOFFSETTO:-0400
TZNAME:EDT
DTSTART:20260308T070000
END:DAYLIGHT
BEGIN:STANDARD
TZOFFSETFROM:-0400
TZOFFSETTO:-0500
TZNAME:EST
DTSTART:20261101T060000
END:STANDARD
BEGIN:DAYLIGHT
TZOFFSETFROM:-0500
TZOFFSETTO:-0400
TZNAME:EDT
DTSTART:20270314T070000
END:DAYLIGHT
BEGIN:STANDARD
TZOFFSETFROM:-0400
TZOFFSETTO:-0500
TZNAME:EST
DTSTART:20271107T060000
END:STANDARD
END:VTIMEZONE
BEGIN:VEVENT
DTSTART;TZID=America/New_York:20260418T110000
DTEND;TZID=America/New_York:20260418T120000
DTSTAMP:20260420T044551
CREATED:20260411T202656Z
LAST-MODIFIED:20260411T202656Z
UID:7020-1776510000-1776513600@thehydeparkcreativeconnector.org
SUMMARY:Yoga with Blissful Monkey
DESCRIPTION:Join Blissful Monkey at Roundhead Brewery in Hyde Park every third Saturday from 11am to 12pm for a one-hour yoga class followed by gift cards to enjoy at the bar afterwards. The bar and kitchen open at 12pm\, perfect timing to relax and refuel after class. \nCLICK HERE FOR PRICING OPTIONS AND PACKAGES! \n\nThe Experience\nFun\, sweaty vinyasa flows with upbeat music and a variety of hands-on assists. We start class with breath work and mindfulness\, carrying over into a flow that will leave you feeling strong\, sweaty\, and ready for a sweet savasana. \n\nWhat to Bring\n\nYour mat\nWater bottle\nA friend\nYour full self
URL:https://thehydeparkcreativeconnector.org/event/yoga-with-blissful-monkey-4/
LOCATION:Roundhead Brewing Company\, 1 Westinghouse Plaza\, #Building #10\, Boston\, MA\, 02136\, United States
CATEGORIES:Classes,Wellness
ATTACH;FMTTYPE=image/png:https://thehydeparkcreativeconnector.org/wp-content/uploads/2026/01/12-3Am0qo.png
END:VEVENT
BEGIN:VEVENT
DTSTART;TZID=America/New_York:20260321T110000
DTEND;TZID=America/New_York:20260321T120000
DTSTAMP:20260420T044551
CREATED:20260307T171406Z
LAST-MODIFIED:20260307T171406Z
UID:6578-1774090800-1774094400@thehydeparkcreativeconnector.org
SUMMARY:Yoga with Blissful Monkey
DESCRIPTION:Join Blissful Monkey at Roundhead Brewery in Hyde Park every third Saturday from 11am to 12pm for a one-hour yoga class followed by gift cards to enjoy at the bar afterwards. The bar and kitchen open at 12pm\, perfect timing to relax and refuel after class. \nCLICK HERE FOR PRICING OPTIONS AND PACKAGES! \n\nThe Experience\nFun\, sweaty vinyasa flows with upbeat music and a variety of hands-on assists. We start class with breath work and mindfulness\, carrying over into a flow that will leave you feeling strong\, sweaty\, and ready for a sweet savasana. \n\nWhat to Bring\n\nYour mat\nWater bottle\nA friend\nYour full self
URL:https://thehydeparkcreativeconnector.org/event/yoga-with-blissful-monkey-3/
LOCATION:Roundhead Brewing Company\, 1 Westinghouse Plaza\, #Building #10\, Boston\, MA\, 02136\, United States
CATEGORIES:Classes,Wellness
ATTACH;FMTTYPE=image/png:https://thehydeparkcreativeconnector.org/wp-content/uploads/2026/01/12-3Am0qo.png
END:VEVENT
BEGIN:VEVENT
DTSTART;TZID=America/New_York:20260221T110000
DTEND;TZID=America/New_York:20260221T120000
DTSTAMP:20260420T044551
CREATED:20260114T213528Z
LAST-MODIFIED:20260114T213528Z
UID:5611-1771671600-1771675200@thehydeparkcreativeconnector.org
SUMMARY:Yoga with Blissful Monkey
DESCRIPTION:Join Blissful Monkey at Roundhead Brewery in Hyde Park every third Saturday from 11am to 12pm for a one-hour yoga class followed by gift cards to enjoy at the bar afterwards. The bar and kitchen open at 12pm\, perfect timing to relax and refuel after class. \nCLICK HERE FOR PRICING OPTIONS AND PACKAGES! \n\nThe Experience\nFun\, sweaty vinyasa flows with upbeat music and a variety of hands-on assists. We start class with breath work and mindfulness\, carrying over into a flow that will leave you feeling strong\, sweaty\, and ready for a sweet savasana. \n\nWhat to Bring\n\nYour mat\nWater bottle\nA friend\nYour full self
URL:https://thehydeparkcreativeconnector.org/event/yoga-with-blissful-monkey-2/
LOCATION:Roundhead Brewing Company\, 1 Westinghouse Plaza\, #Building #10\, Boston\, MA\, 02136\, United States
CATEGORIES:Classes,Wellness
ATTACH;FMTTYPE=image/png:https://thehydeparkcreativeconnector.org/wp-content/uploads/2026/01/12-3Am0qo.png
END:VEVENT
BEGIN:VEVENT
DTSTART;TZID=America/New_York:20260117T110000
DTEND;TZID=America/New_York:20260117T120000
DTSTAMP:20260420T044551
CREATED:20260114T213100Z
LAST-MODIFIED:20260114T213100Z
UID:5582-1768647600-1768651200@thehydeparkcreativeconnector.org
SUMMARY:Yoga with Blissful Monkey
DESCRIPTION:Join Blissful Monkey at Roundhead Brewery in Hyde Park every third Saturday from 11am to 12pm for a one-hour yoga class followed by gift cards to enjoy at the bar afterwards. The bar and kitchen open at 12pm\, perfect timing to relax and refuel after class. \nCLICK HERE FOR PRICING OPTIONS AND PACKAGES! \n\nThe Experience\nFun\, sweaty vinyasa flows with upbeat music and a variety of hands-on assists. We start class with breath work and mindfulness\, carrying over into a flow that will leave you feeling strong\, sweaty\, and ready for a sweet savasana. \n\nWhat to Bring\n\nYour mat\nWater bottle\nA friend\nYour full self
URL:https://thehydeparkcreativeconnector.org/event/yoga-with-blissful-monkey/
LOCATION:Roundhead Brewing Company\, 1 Westinghouse Plaza\, #Building #10\, Boston\, MA\, 02136\, United States
CATEGORIES:Classes,Wellness
ATTACH;FMTTYPE=image/png:https://thehydeparkcreativeconnector.org/wp-content/uploads/2026/01/12-3Am0qo.png
END:VEVENT
END:VCALENDAR