BEGIN:VCALENDAR
VERSION:2.0
PRODID:-//The Hyde Park Creative Connector - ECPv6.15.20//NONSGML v1.0//EN
CALSCALE:GREGORIAN
METHOD:PUBLISH
X-ORIGINAL-URL:https://thehydeparkcreativeconnector.org
X-WR-CALDESC:Events for The Hyde Park Creative Connector
REFRESH-INTERVAL;VALUE=DURATION:PT1H
X-Robots-Tag:noindex
X-PUBLISHED-TTL:PT1H
BEGIN:VTIMEZONE
TZID:America/New_York
BEGIN:DAYLIGHT
TZOFFSETFROM:-0500
TZOFFSETTO:-0400
TZNAME:EDT
DTSTART:20230312T070000
END:DAYLIGHT
BEGIN:STANDARD
TZOFFSETFROM:-0400
TZOFFSETTO:-0500
TZNAME:EST
DTSTART:20231105T060000
END:STANDARD
BEGIN:DAYLIGHT
TZOFFSETFROM:-0500
TZOFFSETTO:-0400
TZNAME:EDT
DTSTART:20240310T070000
END:DAYLIGHT
BEGIN:STANDARD
TZOFFSETFROM:-0400
TZOFFSETTO:-0500
TZNAME:EST
DTSTART:20241103T060000
END:STANDARD
BEGIN:DAYLIGHT
TZOFFSETFROM:-0500
TZOFFSETTO:-0400
TZNAME:EDT
DTSTART:20250309T070000
END:DAYLIGHT
BEGIN:STANDARD
TZOFFSETFROM:-0400
TZOFFSETTO:-0500
TZNAME:EST
DTSTART:20251102T060000
END:STANDARD
BEGIN:DAYLIGHT
TZOFFSETFROM:-0500
TZOFFSETTO:-0400
TZNAME:EDT
DTSTART:20260308T070000
END:DAYLIGHT
BEGIN:STANDARD
TZOFFSETFROM:-0400
TZOFFSETTO:-0500
TZNAME:EST
DTSTART:20261101T060000
END:STANDARD
END:VTIMEZONE
BEGIN:VEVENT
DTSTART;TZID=America/New_York:20250322T103000
DTEND;TZID=America/New_York:20250322T103000
DTSTAMP:20260419T083441
CREATED:20250313T141758Z
LAST-MODIFIED:20250316T210237Z
UID:2666-1742639400-1742639400@thehydeparkcreativeconnector.org
SUMMARY:Ailey Revelations Celebration
DESCRIPTION:Learn iconic movements from Revelations\nYou’ll have an opportunity to learn iconic choreography from an American masterpiece when teaching artists from the Ailey organization share the power and joy of Revelations in four free events across Boston\, March 22 & 23. \nLearn gestures\, movements\, and adapted steps from the dance that means so much to generations of audience members. \nYou won’t need any special equipment\, just a willingness to try something new: these workshops are for everyone! \nThe approximate running time for each event will be two hours\, including a get-together with refreshments to follow.
URL:https://thehydeparkcreativeconnector.org/event/ailey-revelations-celebration/
LOCATION:Boston Renaissance Charter Public School\, 1415 Hyde Park Ave\, Hyde Park\, MA\, 02136
CATEGORIES:Classes,Dance and Movement
ATTACH;FMTTYPE=image/png:https://thehydeparkcreativeconnector.org/wp-content/uploads/2025/03/Screenshot-2025-03-13-at-10.13.06 AM.png
END:VEVENT
BEGIN:VEVENT
DTSTART;TZID=America/New_York:20250316T110000
DTEND;TZID=America/New_York:20250316T120000
DTSTAMP:20260419T083441
CREATED:20250306T215359Z
LAST-MODIFIED:20250316T202902Z
UID:2524-1742122800-1742126400@thehydeparkcreativeconnector.org
SUMMARY:Go with the Flow Sundays\, hosted by Blissful Monkey
DESCRIPTION:Click here to register for Flow Yoga presented by Blissful Monkey at Roundhead Brewing Company! This class is instructed by Blissful Monkey’s Stefy Modesto\, In this class\, you can expect fun sweaty vinyasa flows with upbeat music and a variety of hands-on assists. $25 registration INCLUDES one drink token for redemption in Roundhead’s taproom. \nRegister here: https://www.blissfulmonkey.com/roundhead-brewery
URL:https://thehydeparkcreativeconnector.org/event/go-with-the-flow-sundays-hosted-by-blissful-monkey/
LOCATION:Roundhead Brewing Company\, 1 Westinghouse Plaza\, #Building #10\, Boston\, MA\, 02136\, United States
CATEGORIES:Classes,Music
ATTACH;FMTTYPE=image/png:https://thehydeparkcreativeconnector.org/wp-content/uploads/2025/01/Untitled-design-1-60E7x3.tmp_.png
END:VEVENT
BEGIN:VEVENT
DTSTART;TZID=America/New_York:20250224T160000
DTEND;TZID=America/New_York:20250224T170000
DTSTAMP:20260419T083441
CREATED:20250201T021442Z
LAST-MODIFIED:20250211T032849Z
UID:793-1740412800-1740416400@thehydeparkcreativeconnector.org
SUMMARY:Celebrate Black History Month with Zahirah Nur Truth
DESCRIPTION:Celebrate Black History Month with Zahirah Nur Truth of ZNT Arts. A fun interactive hand sewing project\, “The pieces of Me” for children ages 6-10 years old. We will learn about the history of sewing\, quilting\, and patch work through the African Diaspora and talk about how hand sewing was used to tell stories\, pass on knowledge and share feelings. Participants will be able to develop their own beautiful stories through art. \n\nThis event is accessible to people with disabilities. To request a disability accommodation and/or language services\, please contact (617) 361-2524 or hydepark@bpl.org. Please allow at least two weeks to arrange for accommodations. \n📍 Location: Hyde Park\n🔗 More Info: https://bpl.bibliocommons.com/events/67335f6f54a602ae2c3902e2\n🖼 Image: http://bpl.bibliocommons.com/events/uploads/images/full/344f7f03aacbc713532e3c4302256245/ZahirahTruth.jpg
URL:https://thehydeparkcreativeconnector.org/event/celebrate-black-history-month-with-zahirah-nur-truth/
LOCATION:Hyde Park Branch of the Boston Public Library\, 35 Harvard Avenue\, Boston\, MA\, 02136\, United States
CATEGORIES:Art,Classes
ATTACH;FMTTYPE=image/jpeg:https://thehydeparkcreativeconnector.org/wp-content/uploads/2025/01/ZahirahTruth-scaled.jpg
END:VEVENT
BEGIN:VEVENT
DTSTART;TZID=America/New_York:20250220T180000
DTEND;TZID=America/New_York:20250220T190000
DTSTAMP:20260419T083441
CREATED:20250201T021442Z
LAST-MODIFIED:20250211T015020Z
UID:791-1740074400-1740078000@thehydeparkcreativeconnector.org
SUMMARY:Sponge Painting
DESCRIPTION:What can you do with a sponge beside scrub things? Why not use a sponge to create a masterpiece? Enjoy an evening of sponge painting and express your creativity in a memorable way. Simple but beautiful\, this sponge painting activity is a great choice for any age but especially fun for toddlers and preschoolers. \n\nAccessibility Notice: We strive to make our events accessible. To request a disability accommodation and/or language services\, call 617.361.2524 or email hydepark@bpl.org. Please allow at least two weeks to arrange accommodation. \n📍 Location: Hyde Park\n🔗 More Info: https://bpl.bibliocommons.com/events/6753736155d11a28000a4dec\n🖼 Image: http://bpl.bibliocommons.com/events/uploads/images/full/22a0c81e8ee21b1be04f830ac7255f0d/spongepainting.jpg
URL:https://thehydeparkcreativeconnector.org/event/sponge-painting/
LOCATION:Hyde Park Branch of the Boston Public Library\, 35 Harvard Avenue\, Boston\, MA\, 02136\, United States
CATEGORIES:Art,Classes
ATTACH;FMTTYPE=image/jpeg:https://thehydeparkcreativeconnector.org/wp-content/uploads/2025/01/spongepainting.jpg
END:VEVENT
BEGIN:VEVENT
DTSTART;TZID=America/New_York:20250214T200000
DTEND;TZID=America/New_York:20250214T220000
DTSTAMP:20260419T083441
CREATED:20250202T011435Z
LAST-MODIFIED:20250316T210237Z
UID:1817-1739563200-1739570400@thehydeparkcreativeconnector.org
SUMMARY:Forever Royalty: A Valentine's Day Paint & Sip Experience
DESCRIPTION:Grab your person and get ready because this classic instructed workshop will be the perfect blend of fun\, vibes and relaxation. Upgrade your ticket to include a bottle of wine.
URL:https://thehydeparkcreativeconnector.org/event/love-on-canvas-a-valentines-day-paint-sip-experience-2/
LOCATION:Canvas Studio Boston\, 55 Fairmount Avenue\, Boston\, MA\, 02136\, United States
CATEGORIES:Classes
ATTACH;FMTTYPE=image/webp:https://thehydeparkcreativeconnector.org/wp-content/uploads/2025/02/canvasfeb14.webp
END:VEVENT
BEGIN:VEVENT
DTSTART;TZID=America/New_York:20250213T110000
DTEND;TZID=America/New_York:20250213T130000
DTSTAMP:20260419T083441
CREATED:20250201T021441Z
LAST-MODIFIED:20250316T210237Z
UID:786-1739444400-1739451600@thehydeparkcreativeconnector.org
SUMMARY:Audubon Plant-Based Art Activity: Gel Plate Printing
DESCRIPTION:Explore plant materials and use your creativity as you learn the art of gel plate monotype printmaking. Our Audubon instructor will talk about how plants adapt to the winter and offer hands-on guidance and support for your printmaking project. You will be able to use an assortment of printmaking tools including gel printing plates\, brayers (rollers)\, and barrens. Each participant will take home their custom prints inspired by the intersection of art and nature. This workshop is geared for all experience levels and a great for beginners with little to no artistic experience. \nLimited to 20 participants. To register\, please call the Hyde Park Branch at 617-361-2524. \n  \n\n  \nAccessibility Notice: We strive to make our events accessible. To request a disability accommodation and/or language services\, contact the department listed in the “Contact Info” pane on the right. Please allow at least two weeks to arrange accommodation. \n📍 Location: Hyde Park\n🔗 More Info: https://bpl.bibliocommons.com/events/6786e009018bbb1c3de13c0f\n🖼 Image: http://bpl.bibliocommons.com/events/uploads/images/full/710a75828db6a705a10764c84948cba8/Craft-Audubon-PlantGelPlatePrinting-13Feb2025-FacebookEvent.png
URL:https://thehydeparkcreativeconnector.org/event/audubon-plant-based-art-activity-gel-plate-printing/
LOCATION:Hyde Park Branch of the Boston Public Library\, 35 Harvard Avenue\, Boston\, MA\, 02136\, United States
CATEGORIES:Art,Classes
ATTACH;FMTTYPE=image/png:https://thehydeparkcreativeconnector.org/wp-content/uploads/2025/01/Craft-Audubon-PlantGelPlatePrinting-13Feb2025-FacebookEvent.png
END:VEVENT
BEGIN:VEVENT
DTSTART;TZID=America/New_York:20250201T200000
DTEND;TZID=America/New_York:20250201T220000
DTSTAMP:20260419T083441
CREATED:20250202T011434Z
LAST-MODIFIED:20250323T154122Z
UID:1808-1738440000-1738447200@thehydeparkcreativeconnector.org
SUMMARY:Paint After Dark - International Saturdays
DESCRIPTION:Join us for an international-themed painting session. Tickets and details available at https://www.canvasstudioboston.com/tickets
URL:https://thehydeparkcreativeconnector.org/event/paint-after-dark-international-saturdays/
LOCATION:Canvas Studio Boston\, Canvas Studio Boston\, Hyde Park\, MA\, 02136
CATEGORIES:Art,Classes,Music
ATTACH;FMTTYPE=image/webp:https://thehydeparkcreativeconnector.org/wp-content/uploads/2025/02/paintafterdark-1.webp
END:VEVENT
BEGIN:VEVENT
DTSTART;TZID=America/New_York:20241113T160000
DTEND;TZID=America/New_York:20241113T200000
DTSTAMP:20260419T083441
CREATED:20241113T162055Z
LAST-MODIFIED:20250316T210237Z
UID:222-1731513600-1731528000@thehydeparkcreativeconnector.org
SUMMARY:Brick Island Studios Fall Opening
DESCRIPTION:Brick Island Studios Fall Opening \n\nJoin us for the fall opening of Brick Island Studios! Explore the studios\, meet the artists and participate in a free zine workshop. \nAbout this Event \nBrick Island Studios is a collective of local multi-disciplinary artists. From fiber work to the healing arts to low-cost books\, there’s a bit of something for everyone to explore at the Brick Island Studios Fall Opening! Wander through a diverse array of artistic spaces and learn more about the different artists and their inspirations and techniques. \nThe theme is “sweater weather” but please come as you are! \nHighlights: \nMeet the Artists: Chat with creators from various disciplines\, including mixed media and design. \nGallery: Come view our gallery showcasing work from the studio artists \nWorkshop: Join a free zine/ collage making workshop at 5 p.m. led by Print Ain’t Dead. \nRefreshments: Enjoy light snacks and beverages as you stroll through the studios. \nPlease note that this space is not currently wheelchair accessible
URL:https://thehydeparkcreativeconnector.org/event/brick-island-studios-fall-opening/
LOCATION:Brick Island Studios\, 1476 River St\, Hyde Park\, MA\, 02136
CATEGORIES:Art,Classes
ATTACH;FMTTYPE=image/jpeg:https://thehydeparkcreativeconnector.org/wp-content/uploads/2024/11/brickislandopening.jpg
END:VEVENT
END:VCALENDAR